 
 BEGIN:VCALENDAR
VERSION:2.0
PRODID:-//Ministerul Investițiilor și Proiectelor Europene - ECPv4.6.14.1//NONSGML v1.0//EN
CALSCALE:GREGORIAN
METHOD:PUBLISH
X-WR-CALNAME:Ministerul Investițiilor și Proiectelor Europene
X-ORIGINAL-URL:https://mfe.gov.ro
X-WR-CALDESC:Events for Ministerul Investițiilor și Proiectelor Europene
BEGIN:VEVENT
DTSTART;TZID=UTC+3:20160331T080000
DTEND;TZID=UTC+3:20231231T170000
DTSTAMP:20210922T115625
CREATED:20201217T131226Z
LAST-MODIFIED:20201217T131226Z
UID:27968-1459411200-1704042000@mfe.gov.ro
SUMMARY:Creșterea nivelului de colectare și epurare a apelor uzate urbane\, precum și a gradului de asigurare a alimentării cu apă potabilă a populației
DESCRIPTION:Obiectivul Specific 3.2. Creşterea nivelului de colectare şi epurare a apelor uzate urbane\, precum şi a gradului de asigurare a alimentării cu apă potabilă a populaţiei \nCorrigendum la Ghidul solicitantului privind dezvoltarea infrastructurii integrate de apă și apă uzată\, pentru programul Operațional Infrastructură Mare 2014-2020\, Obiectivul Specific (OS) 3.2 „Creșterea nivelului de colectare și epurare a apelor uzate urbane\, precum și a gradului de asigurare a alimentării cu apă potabilă a populației”\, aprobat prin ordinul ministrului fondurilor europene nr. 383/2016. \n
URL:https://mfe.gov.ro/calendar/cresterea-nivelului-de-colectare-si-epurare-a-apelor-uzate-urbane-precum-si-a-gradului-de-asigurare-a-alimentarii-cu-apa-potabila-a-populatiei/
CATEGORIES:1. Programul Operațional INFRASTRUCTURĂ MARE (POIM)
END:VEVENT
BEGIN:VEVENT
DTSTART;TZID=UTC+3:20170518T123000
DTEND;TZID=UTC+3:20231231T040000
DTSTAMP:20210922T115625
CREATED:20181019T072534Z
LAST-MODIFIED:20181207T122917Z
UID:3583-1495110600-1703995200@mfe.gov.ro
SUMMARY:Asistență Tehnică POCU 2014-2020
DESCRIPTION:Ghidul solicitantului „Asistență tehnică POCU 2014-2020”  și mai multe detalii despre acest apel sunt publicate aici. \n
URL:https://mfe.gov.ro/calendar/asistenta-tehnica-pocu-2014-2020/
CATEGORIES:2. Programul Operațional CAPITAL UMAN (POCU)
END:VEVENT
BEGIN:VEVENT
DTSTART;TZID=UTC+3:20170725T000000
DTEND;TZID=UTC+3:20221231T000000
DTSTAMP:20210922T115625
CREATED:20190424T171946Z
LAST-MODIFIED:20200629T131021Z
UID:7195-1500940800-1672444800@mfe.gov.ro
SUMMARY:Dezvoltarea infrastructurii feroviare
DESCRIPTION:Ghidul solicitantului Dezvoltarea infrastructurii feroviare \nGhidul „Dezvoltarea infrastructurii feroviare” – iunie 2020 \n
URL:https://mfe.gov.ro/calendar/dezvoltarea-infrastructurii-feroviare/
CATEGORIES:1. Programul Operațional INFRASTRUCTURĂ MARE (POIM)
END:VEVENT
BEGIN:VEVENT
DTSTART;TZID=UTC+3:20170725T000000
DTEND;TZID=UTC+3:20221231T000000
DTSTAMP:20210922T115625
CREATED:20190424T172754Z
LAST-MODIFIED:20200413T120357Z
UID:7199-1500940800-1672444800@mfe.gov.ro
SUMMARY:Dezvoltarea infrastructurii de metrou
DESCRIPTION:Ghidul solicitantului Dezvoltarea infrastructurii de metrou \nGhidul solicitantului „Dezvoltarea infrastructurii de metrou” – aprilie 2020 \n
URL:https://mfe.gov.ro/calendar/dezvoltarea-infrastructurii-de-metrou/
CATEGORIES:1. Programul Operațional INFRASTRUCTURĂ MARE (POIM)
END:VEVENT
BEGIN:VEVENT
DTSTART;TZID=UTC+3:20170725T000000
DTEND;TZID=UTC+3:20221231T000000
DTSTAMP:20210922T115625
CREATED:20190506T132234Z
LAST-MODIFIED:20190506T141133Z
UID:7377-1500940800-1672444800@mfe.gov.ro
SUMMARY:Creșterea gradului de siguranță și îmbunătățirea condițiilor de mediu pe toate modurile de transport
DESCRIPTION:Ghidul solicitantului „Creșterea gradului de siguranță și îmbunătățirea condițiilor de mediu pe toate modurile de transport” \n
URL:https://mfe.gov.ro/calendar/cresterea-gradului-de-siguranta-si-imbunatatirea-conditiilor-de-mediu-pe-toate-modurile-de-transport/
CATEGORIES:1. Programul Operațional INFRASTRUCTURĂ MARE (POIM)
END:VEVENT
BEGIN:VEVENT
DTSTART;TZID=UTC+3:20171012T000000
DTEND;TZID=UTC+3:20221231T000000
DTSTAMP:20210922T115625
CREATED:20190506T132818Z
LAST-MODIFIED:20190506T141153Z
UID:7379-1507766400-1672444800@mfe.gov.ro
SUMMARY:Fluidizarea traficului de trecere a punctelor de comunicare transnațională
DESCRIPTION:Ghidul solicitantului „Fluidizarea traficului de trecere a punctelor de comunicare transnațională” \n
URL:https://mfe.gov.ro/calendar/fluidizarea-traficului-de-trecere-a-punctelor-de-comunicare-transnationala/
CATEGORIES:1. Programul Operațional INFRASTRUCTURĂ MARE (POIM)
END:VEVENT
BEGIN:VEVENT
DTSTART;TZID=UTC+3:20171107T000000
DTEND;TZID=UTC+3:20221231T000000
DTSTAMP:20210922T115625
CREATED:20190424T171535Z
LAST-MODIFIED:20200629T132710Z
UID:7193-1510012800-1672444800@mfe.gov.ro
SUMMARY:Dezvoltarea infrastructurii rutiere
DESCRIPTION:Ghidul solicitantului Dezvoltarea infrastructurii rutiere \nGhidul „Dezvoltarea infrastructurii rutiere”  iunie 2020 \n
URL:https://mfe.gov.ro/calendar/dezvoltarea-infrastructurii-rutiere/
CATEGORIES:1. Programul Operațional INFRASTRUCTURĂ MARE (POIM)
END:VEVENT
BEGIN:VEVENT
DTSTART;TZID=UTC+3:20180206T090000
DTEND;TZID=UTC+3:20230206T140000
DTSTAMP:20210922T115625
CREATED:20190205T143351Z
LAST-MODIFIED:20190423T132651Z
UID:4800-1517907600-1675692000@mfe.gov.ro
SUMMARY:Evenimente de viață
DESCRIPTION:Ghidul solicitantului Consolidarea și asigurarea interoperabilității sistemelor informatice dedicate serviciilor de e-guvernare tip 2.0 centrate pe evenimente din viața cetățenilor și întreprinderilor\, dezvoltarea cloud computing guvernamental și a comunicării media sociale\, a Open Data și Big Data – Secțiunea e-guvernare – evenimente de viață și alte informații despre apelul de proiecte sunt publicate aici și aici. \n
URL:https://mfe.gov.ro/calendar/evenimente-de-viata/
CATEGORIES:4. Programul Operațional COMPETITIVITATE (POC)
END:VEVENT
BEGIN:VEVENT
DTSTART;TZID=UTC+3:20180609T090000
DTEND;TZID=UTC+3:20231231T110000
DTSTAMP:20210922T115625
CREATED:20190205T145419Z
LAST-MODIFIED:20190418T110238Z
UID:4807-1528534800-1704020400@mfe.gov.ro
SUMMARY:E-guvernare și Open Data
DESCRIPTION:Ghidul solicitantului Consolidarea și asigurarea interoperabilității sistemelor informatice dedicate serviciilor de e‐guvernare tip 2.0 centrate pe evenimente din viața cetățenilor și întreprinderilor\, dezvoltarea cloud computing guvernamental și a comunicării media sociale\, a Open Data şi Big Data – Secțiunea e-guvernare și Open Data \n
URL:https://mfe.gov.ro/calendar/e-guvernare-si-open-data/
CATEGORIES:4. Programul Operațional COMPETITIVITATE (POC)
END:VEVENT
BEGIN:VEVENT
DTSTART;TZID=UTC+3:20180702T000000
DTEND;TZID=UTC+3:20231231T000000
DTSTAMP:20210922T115625
CREATED:20190424T135235Z
LAST-MODIFIED:20190424T135235Z
UID:7162-1530489600-1703980800@mfe.gov.ro
SUMMARY:Asigurarea securităţii cibernetice a sistemelor TIC şi a reţelelor informatice
DESCRIPTION:Ghidul solicitantului Asigurarea securităţii cibernetice a sistemelor TIC şi a reţelelor informatice \n
URL:https://mfe.gov.ro/calendar/asigurarea-securitatii-cibernetice-a-sistemelor-tic-si-a-retelelor-informatice/
CATEGORIES:4. Programul Operațional COMPETITIVITATE (POC)
END:VEVENT
BEGIN:VEVENT
DTSTART;TZID=UTC+3:20181001T090000
DTEND;TZID=UTC+3:20231231T000000
DTSTAMP:20210922T115625
CREATED:20190424T135536Z
LAST-MODIFIED:20210629T073745Z
UID:7164-1538384400-1703980800@mfe.gov.ro
SUMMARY:Secțiunea e-sănătate
DESCRIPTION:Ghidul solicitantului – Secțiunea e-sănătate \nCorrigendum la ghidul solicitantului – Secțiunea e-sănătate \n
URL:https://mfe.gov.ro/calendar/sectiunea-e-sanatate/
CATEGORIES:4. Programul Operațional COMPETITIVITATE (POC)
END:VEVENT
BEGIN:VEVENT
DTSTART;TZID=UTC+3:20181214T000000
DTEND;TZID=UTC+3:20220630T000000
DTSTAMP:20210922T115625
CREATED:20190506T141026Z
LAST-MODIFIED:20210819T063624Z
UID:7383-1544745600-1656547200@mfe.gov.ro
SUMMARY:Refacerea ecosistemelor degradate
DESCRIPTION:Ghidul solicitantului „Refacerea ecosistemelor degradate” \nOrdinul privind modificarea și completarea Ghidului solicitantului „Refacerea ecosistemelor degradate” \nNotă pentru clarificarea aspectelor metodologice privind evaluare cererilor de finanțare pentru activități de tip D în cadrul axei prioritare 4/ obiectivul specific 4.1 „Creșterea gradului de protecție și conservare a biodiversității și refacerea ecosistemelor degradate” \nCorrigendum la ghidul „Condiții specifice de accesare a fondurilor pentru apelul de proiecte dedicat acțiunii de Refacere a ecosistemelor degradate aferent Axei Prioritare 4 – Protecţia mediului prin măsuri de conservare a biodiversităţii\, monitorizarea calităţii aerului şi decontaminare a siturilor poluate istoric”\, Obiectivul Specific (OS) 4.1 „Creşterea gradului de protecţie şi conservare a biodiversităţii şi refacerea ecosistemelor degradate” \n
URL:https://mfe.gov.ro/calendar/refacerea-ecosistemelor-degradate/
CATEGORIES:1. Programul Operațional INFRASTRUCTURĂ MARE (POIM)
END:VEVENT
BEGIN:VEVENT
DTSTART;TZID=UTC+3:20190129T080000
DTEND;TZID=UTC+3:20211231T170000
DTSTAMP:20210922T115625
CREATED:20201217T125241Z
LAST-MODIFIED:20210609T142617Z
UID:27960-1548748800-1640970000@mfe.gov.ro
SUMMARY:Creșterea nivelului de evaluare și monitorizare a calității aerului la nivel național prin dezvoltarea instrumentelor de monitorizare
DESCRIPTION:Ghid  Creşterea nivelului de evaluare şi monitorizare a calităţii aerului la nivel naţional \nOrdinul nr.1527/2020 pentru modificarea Ghidului Solicitantului – condiții specifice de accesare a fondurilor pentru evaluarea și monitorizarea calității aerului la nivel național\, aferent A.P.4 „Protecția mediului prin măsuri de conservare a biodiversității\, monitorizarea calității aerului şi decontaminare a siturilor poluate istoric”\, O.S 4.2 „Creșterea nivelului de evaluare și monitorizare a calității aerului la nivel național”\, aprobat prin Ordinul Ministrului Fondurilor Europene nr. 66/2019 \n
URL:https://mfe.gov.ro/calendar/cresterea-nivelului-de-evaluare-si-monitorizare-a-calitatii-aerului-la-nivel-national-prin-dezvoltarea-instrumentelor-de-monitorizare/
CATEGORIES:1. Programul Operațional INFRASTRUCTURĂ MARE (POIM)
END:VEVENT
BEGIN:VEVENT
DTSTART;TZID=UTC+3:20190531T000000
DTEND;TZID=UTC+3:20211231T000000
DTSTAMP:20210922T115625
CREATED:20190529T161036Z
LAST-MODIFIED:20190603T145309Z
UID:8273-1559260800-1640908800@mfe.gov.ro
SUMMARY:Dezvoltarea infrastructurii de management integrat al deșeurilor
DESCRIPTION:Ghidul solicitantului „Dezvoltarea infrastructurii de management integrat al deșeurilor” \n
URL:https://mfe.gov.ro/calendar/ghidul-solicitantului-dezvoltarea-infrastructurii-de-management-integrat-al-deseurilor/
CATEGORIES:1. Programul Operațional INFRASTRUCTURĂ MARE (POIM)
END:VEVENT
BEGIN:VEVENT
DTSTART;TZID=UTC+3:20190916T080000
DTEND;TZID=UTC+3:20221231T170000
DTSTAMP:20210922T115625
CREATED:20190917T054959Z
LAST-MODIFIED:20190923T084334Z
UID:12928-1568620800-1672506000@mfe.gov.ro
SUMMARY:Consolidarea Capacității de reacție în caz de dezastre
DESCRIPTION:Ghidul „Consolidarea Capacității de reacție în caz de dezastre”. \n
URL:https://mfe.gov.ro/calendar/poim-apelul-consolidarea-capacitatii-de-reactie-in-caz-de-dezastre-2/
CATEGORIES:1. Programul Operațional INFRASTRUCTURĂ MARE (POIM)
END:VEVENT
BEGIN:VEVENT
DTSTART;TZID=UTC+3:20190923T100000
DTEND;TZID=UTC+3:20211231T100000
DTSTAMP:20210922T115625
CREATED:20190923T070405Z
LAST-MODIFIED:20191105T115031Z
UID:13090-1569232800-1640944800@mfe.gov.ro
SUMMARY:„Implementarea planurilor de management / seturilor de măsuri de conservare/ planurilor de acțiune pentru ariile naturale protejate și pentru speciile de interes comunitar aprobate”
DESCRIPTION:Ghidul solicitantului pentru Implementarea planurilor de management / seturilor de măsuri de conservare/ planurilor de acțiune pentru ariile naturale protejate și pentru speciile de interes comunitar aprobate \nActualizare Anexa 8 – Informaţii privind planurile de management şi planurile de acţiune aprobate pentru ariile naturale protejate / speciile de interes național\, aferentă ghidului „Implementarea planurilor de management / seturilor de măsuri de conservare/ planurilor de acțiune pentru ariile naturale protejate și pentru speciile de interes comunitar aprobate \n
URL:https://mfe.gov.ro/calendar/implementarea-planurilor-de-management-seturilor-de-masuri-de-conservare-planurilor-de-actiune-pentru-ariile-naturale-protejate-si-pentru-speciile-de-interes-comunitar/
CATEGORIES:1. Programul Operațional INFRASTRUCTURĂ MARE (POIM)
END:VEVENT
BEGIN:VEVENT
DTSTART;TZID=UTC+3:20191101T160000
DTEND;TZID=UTC+3:20211231T160000
DTSTAMP:20210922T115625
CREATED:20190913T122834Z
LAST-MODIFIED:20210505T113016Z
UID:12838-1572624000-1640966400@mfe.gov.ro
SUMMARY:Apelul pentru depunerea în sistemul MySMIS a cererilor de finanțare aferente fișelor de proiect selectate de GAL în cadrul SDL - Etapa a III-a a mecanismului DLRC
DESCRIPTION: Ghidul solicitantului pentru depunerea în sistemul MySMIS a cererilor de finanțare aferente fișelor de proiect selectate de GAL în cadrul SDL – Etapa a III-a a mecanismului DLRC \nCorrigendum la Ghidul solicitantului condiții specifice pentru depunerea în SistemuL MySMIS a  cererilor de finanțare aferente fișelor de proiect selectate de GAL în cadrul SDL – Etapa a III-a a mecanismului DLRC  \nCorrigendum-ul la Ghidul solicitantului condiții specifice pentru depunerea în Sistemul MySMIS a cererilor de finanțare aferente fișelor de proiect selectate de Grupurile de Acțiune Locale (GAL) în cadrul Strategiei de Dezvoltare Locală (SDL) – Etapa a III-a a mecanismului DLRC \ncorrigendum la Ghidul Solicitantului Condiții Specifice pentru depunerea în sistemul MySMIS a cererilor de finanțare aferente fișelor de proiect selectate de GAL în cadrul SDL – Etapa a III-a a mecanismului DLRC\, aferent Programului Operațional Capital Uman 2014-2020\, POCU 2014-2020\, Axa Prioritară 5 „Dezvoltare locală plasată sub responsabilitatea comunității”\, Obiectivul specific 5.1 „Reducerea numărului de persoane aflate în risc de sărăcie și excluziune socială din comunitățile marginalizate (roma și non-roma) din orașe/municipii cu peste 20.000 locuitori\, cu accent pe cele cu populație aparținând minorității roma\, prin implementarea de măsuri/ operațiuni integrate în contextul mecanismului de DLRC” \n
URL:https://mfe.gov.ro/calendar/pocu-81-mil-euro-pentru-reducerea-numarului-de-persoane-in-risc-de-saracie-si-excluziune-sociala/
CATEGORIES:2. Programul Operațional CAPITAL UMAN (POCU)
END:VEVENT
BEGIN:VEVENT
DTSTART;TZID=UTC+3:20210319T180000
DTEND;TZID=UTC+3:20211231T180000
DTSTAMP:20210922T115625
CREATED:20210319T104053Z
LAST-MODIFIED:20210319T124934Z
UID:31263-1616176800-1640973600@mfe.gov.ro
SUMMARY:Creșterea siguranței pacienților în structuri spitalicești publice care utilizează fluide medicale
DESCRIPTION:Ghidul „Creșterea siguranței pacienților în structuri spitalicești publice care utilizează fluide medicale”.  \nCentralizator observații Ghid „Creșterea siguranței pacienților în structuri spitalicești publice care utilizează fluide medicale” \n
URL:https://mfe.gov.ro/calendar/cresterea-sigurantei-pacientilor-in-structuri-spitalicesti-publice-care-utilizeaza-fluide-medicale/
CATEGORIES:1. Programul Operațional INFRASTRUCTURĂ MARE (POIM)
END:VEVENT
BEGIN:VEVENT
DTSTART;TZID=UTC+3:20210319T180000
DTEND;TZID=UTC+3:20220331T180000
DTSTAMP:20210922T115625
CREATED:20210602T142535Z
LAST-MODIFIED:20210603T121959Z
UID:34103-1616176800-1648749600@mfe.gov.ro
SUMMARY:Creșterea siguranței pacienților în stucturi spitalicești publice care utilizează fluide medicale
DESCRIPTION:Ghidul „Creșterea siguranței pacienților în structuri spitalicești publice care utilizează fluide medicale” \nErată la Ghidul Solicitantului condiții specifice de accesare a fondurilor pentru Creșterea siguranței pacienților în structuri spitalicești publice care utilizează fluide medicale (aprobat prin Ordinul nr. 299/19.03.2021) \nOrdin nr. 571/02.06.2021 privind modificarea ghidului „Creșterea siguranței pacienților în stucturi spitalicești publice care utilizează fluide medicale” – 2 iunie 2021 \n  \n
URL:https://mfe.gov.ro/calendar/cresterea-sigurantei-pacientilor-in-stucturi-spitalicesti-publice-care-utilizeaza-fluide-medicale/
CATEGORIES:1. Programul Operațional INFRASTRUCTURĂ MARE (POIM)
END:VEVENT
BEGIN:VEVENT
DTSTART;TZID=UTC+3:20210831T170000
DTEND;TZID=UTC+3:20220228T170000
DTSTAMP:20210922T115625
CREATED:20210831T134053Z
LAST-MODIFIED:20210831T134206Z
UID:36203-1630429200-1646067600@mfe.gov.ro
SUMMARY:Ghidul Solicitantului privind monitorizarea consumului de energie la consumatorii industriali\, pentru Obiectivul Specific 6.2/REACT-EU
DESCRIPTION:Ghidul Solicitantului privind monitorizarea consumului de energie la consumatorii industriali\, aferent Obiectivului Specific 6.2/REACT-E \n
URL:https://mfe.gov.ro/calendar/ghidul-solicitantului-privind-monitorizarea-consumului-de-energie-la-consumatorii-industriali-pentru-obiectivul-specific-6-2-react-eu/
CATEGORIES:1. Programul Operațional INFRASTRUCTURĂ MARE (POIM)
END:VEVENT
BEGIN:VEVENT
DTSTART;TZID=UTC+3:20210922T160000
DTEND;TZID=UTC+3:20211008T160000
DTSTAMP:20210922T115625
CREATED:20210920T135301Z
LAST-MODIFIED:20210920T135301Z
UID:36553-1632326400-1633708800@mfe.gov.ro
SUMMARY:Acordarea de materiale școlare (rechizite și vestimentație necesară frecventării școlii)
DESCRIPTION:Apelul „Acordarea de materiale școlare (rechizite și vestimentație necesară frecventării școlii)”. \n
URL:https://mfe.gov.ro/calendar/acordarea-de-materiale-scolare-rechizite-si-vestimentatie-necesara-frecventarii-scolii-2/
CATEGORIES:3. Programul Operațional AJUTORAREA PERSOANELOR DEFAVORIZATE (POAD)
END:VEVENT
END:VCALENDAR